BEGIN:VCALENDAR
VERSION:2.0
PRODID:-//Kerschensteinerschule Wiesbaden - ECPv6.15.20//NONSGML v1.0//EN
CALSCALE:GREGORIAN
METHOD:PUBLISH
X-WR-CALNAME:Kerschensteinerschule Wiesbaden
X-ORIGINAL-URL:https://www.kerschensteinerschule-wi.de
X-WR-CALDESC:Veranstaltungen für Kerschensteinerschule Wiesbaden
REFRESH-INTERVAL;VALUE=DURATION:PT1H
X-Robots-Tag:noindex
X-PUBLISHED-TTL:PT1H
BEGIN:VTIMEZONE
TZID:Europe/Berlin
BEGIN:DAYLIGHT
TZOFFSETFROM:+0100
TZOFFSETTO:+0200
TZNAME:CEST
DTSTART:20250330T010000
END:DAYLIGHT
BEGIN:STANDARD
TZOFFSETFROM:+0200
TZOFFSETTO:+0100
TZNAME:CET
DTSTART:20251026T010000
END:STANDARD
BEGIN:DAYLIGHT
TZOFFSETFROM:+0100
TZOFFSETTO:+0200
TZNAME:CEST
DTSTART:20260329T010000
END:DAYLIGHT
BEGIN:STANDARD
TZOFFSETFROM:+0200
TZOFFSETTO:+0100
TZNAME:CET
DTSTART:20261025T010000
END:STANDARD
BEGIN:DAYLIGHT
TZOFFSETFROM:+0100
TZOFFSETTO:+0200
TZNAME:CEST
DTSTART:20270328T010000
END:DAYLIGHT
BEGIN:STANDARD
TZOFFSETFROM:+0200
TZOFFSETTO:+0100
TZNAME:CET
DTSTART:20271031T010000
END:STANDARD
END:VTIMEZONE
BEGIN:VEVENT
DTSTART;VALUE=DATE:20260422
DTEND;VALUE=DATE:20260423
DTSTAMP:20260422T021420
CREATED:20260311T155119Z
LAST-MODIFIED:20260311T155226Z
UID:6942-1776816000-1776902399@www.kerschensteinerschule-wi.de
SUMMARY:FOS Gestaltung: Fachspezifischer Eignungstest
DESCRIPTION:Die Teilnahme am Eignungstest ist nur mit schriftlicher Einladung nach erfolgter Anmeldung möglich.
URL:https://www.kerschensteinerschule-wi.de/termin/fos-gestaltung-fachspezifischer-eignungstest-2/
LOCATION:Kerschensteinerschule\, Welfenstraße 10\, Wiesbaden\, 65189\, Deutschland
CATEGORIES:FOS
END:VEVENT
END:VCALENDAR